BEGIN:VCALENDAR
VERSION:2.0
PRODID:-//eventon.com NONSGML v1.0//EN
CALSCALE:GREGORIAN
METHOD:PUBLISH
BEGIN:VEVENT
UID:69e63f857a23c
DTSTAMP:20260420T150021Z
DTSTART:20240108T000000Z
DTEND:20240107T170000Z
LOCATION:Taman Budaya Raden Saleh Kota Semarang
SUMMARY:PAK RAHMAN (PASAR PANGAN RAKYAT MURAH & AMAN) KOTA SEMARANG
DESCRIPTION:Halo\,  Sedulur Semarang! Pemerintah Kota Semarang akan menggel
 ar kembali program Pasar Pangan Rakyat Murah &amp; Aman (Pak Rahman). Acara
  akan dilaksanakan pada : 📆 8 Januari 2024 🕖 07.00 WIB 📍 Taman Bud
 aya Raden Saleh (Jl. Sriwijaya No.29\,  Tegalsari\,  Kec. Candisari) Yuk\, 
  ikut belanja di sini! 50 ribu udah bisa[..]\nhttps://ppid.semarangkota.go.
 id/events/pak-rahman-pasar-pangan-rakyat-murah-aman-kota-semarang/
URL:https://ppid.semarangkota.go.id/events/pak-rahman-pasar-pangan-rakyat-murah-aman-kota-semarang/
END:VEVENT
END:VCALENDAR