BEGIN:VCALENDAR
VERSION:2.0
PRODID:-//eventon.com NONSGML v1.0//EN
CALSCALE:GREGORIAN
METHOD:PUBLISH
BEGIN:VEVENT
UID:69ea3b2897489
DTSTAMP:20260423T153048Z
DTSTART:20240118T040000Z
DTEND:20240118T063000Z
LOCATION:AULA KECAMATAN MIJEN
SUMMARY:PAK RAHMAN (Pasar Pangan Rakyat Murah dan Aman)-Kec.Mijen
DESCRIPTION:Halo #sobatpangan Jangan lupa\,  &#8220;PAK RAHMAN&#8221; Pasar
  Pangan Rakyat Murah dan Aman hadir dalam kegiatan &#8220;MBAK ITA SAPA WAR
 GA&#8221; di AULA KECAMATAN MIJEN Jl. Raya Semarang-Boja No. 122 Kelurahan 
 Wonolopo @kelurahanwonolopo Kecamatan Mijen @kecmijensmg Hari Kamis\,  18 J
 anuari 2024 Jam 11.00 WIB &#8211; 13.30 WIB atau menyesuaikan ketersediaan 
 komoditas Kutunggu[..]\nhttps://ppid.semarangkota.go.id/events/pak-rahman-p
 asar-pangan-rakyat-murah-dan-aman-kec-mijen/
URL:https://ppid.semarangkota.go.id/events/pak-rahman-pasar-pangan-rakyat-murah-dan-aman-kec-mijen/
END:VEVENT
END:VCALENDAR