BEGIN:VCALENDAR
VERSION:2.0
PRODID:-//eventon.com NONSGML v1.0//EN
CALSCALE:GREGORIAN
METHOD:PUBLISH
BEGIN:VEVENT
UID:69e7ad9cc049e
DTSTAMP:20260421T170220Z
DTSTART:20240629T160000Z
DTEND:20240714T200000Z
LOCATION:The Park Mall Semarang Tawangmas\,  Kec. Semarang Barat\,  Kota Semarang
SUMMARY:sPARKtacular Circus at The Park Semarang🎪
DESCRIPTION:&#8211; Jangan Sampai Terlewat\,  Nonton Sirkus di The Park &#8
 211; Halo koncodolah\,  parmin mau kasih rekomendasi event spektakuler di K
 ota Semarang nih! 😍😍 29 Juni &#8211; 14 Juli nanti Sparktacular Circu
 s Carnival From Rusia bakal hadir di @thepark.semarang Dan pastinya GRATI
 S! Bisa dibayangin dong gimana serunya event ini\,  yuk agendakan.. ajak bu
 ah[..]\nhttps://ppid.semarangkota.go.id/events/sparktacular-circus-at-the-p
 ark-semarang%f0%9f%8e%aa/
URL:https://ppid.semarangkota.go.id/events/sparktacular-circus-at-the-park-semarang%f0%9f%8e%aa/
END:VEVENT
END:VCALENDAR