BEGIN:VCALENDAR
VERSION:2.0
PRODID:-//eventon.com NONSGML v1.0//EN
CALSCALE:GREGORIAN
METHOD:PUBLISH
BEGIN:VEVENT
UID:69e8f99b7b716
DTSTAMP:20260422T163851Z
DTSTART:20240621T190000Z
DTEND:20240621T235900Z
LOCATION:Kantor Kecamatan Semarang Tengah
SUMMARY:SEMARANG TENGAH BERSHOLAWAT
DESCRIPTION:Pemerintah Kota Semarang mempersembahkan Semarang Tengah Bersho
 lawat bersama Habib Umar Al-Muthohar\,  Hj. Hevearita G. Rahayu (Wali Kota 
 Semarang)\,  Aniceto Magno Da Silva (Camat Semarang Tengah)\,  beserta Grup
  Laskar Sholawat. Acara ini akan dilaksanakan pada: 📆 21 Juni 2024 🕐 
 19.00 WIB 📍 Halaman Kantor Kecamatan Semarang Tengah 🎥 Live Streaming
 [..]\nhttps://ppid.semarangkota.go.id/events/semarang-tengah-bersholawat/va
 r/event_access
URL:https://ppid.semarangkota.go.id/events/semarang-tengah-bersholawat/var/event_access
END:VEVENT
END:VCALENDAR