BEGIN:VCALENDAR
VERSION:2.0
PRODID:-//eventon.com NONSGML v1.0//EN
CALSCALE:GREGORIAN
METHOD:PUBLISH
BEGIN:VEVENT
UID:69e8fb43dfac9
DTSTAMP:20260422T164555Z
DTSTART:20241026T150000Z
DTEND:20241026T235900Z
LOCATION:Lanumad Ahmad Yani
SUMMARY:HARMONIKU MEDICAL FESTIVAL 2024
DESCRIPTION:nb : PPID Kota Semarang bukan penyelenggara event. Informasi le
 bih lanjut\,  bisa menghubungi penyelenggara. &#8212;&#8212;&#8212;&#8212;&
 #8212;&#8212;&#8212;&#8212;&#8212;&#8212;&#8212;&#8212;&#8212;&#8212;&#8212
 ;&#8212;&#8212;&#8212;&#8212;&#8212;&#8212;&#8212;&#8212;&#8212;&#8212;&#82
 12;&#8212;&#8212;&#8212;&#8212;&#8212;&#8212;&#8212;&#8212;&#8212;&#8212;&#
 8212;&#8212;&#8212;&#8212;&#8212;&#8212;&#8212;&#8212;&#8212;&#8212;&#8212;
 &#8212;&#8212;&#8212;&#8212;&#8212;&#8212;&#8212;&#8212;&#8212;&#8212;&#821
 2;&#8212;&#8212;&#8212;&#8212;&#8212;&#8212;&#8212;&#8212;&#8212;&#8212;&#8
 212;&#8212;&#8212;&#8212;&#8212;&#8212;&#8212;&#8212;&#8211; Saksikan penam
 pilan spektakuler dari Nidji\,  Mahalini\,  HIVI\,  Juicy Luicy\,  dan Adri
 an Khalif di panggung yang akan mengguncang! 🗓️ 26 Oktober 2024 📍 L
 anumad Ahmad Yani Puspenerbad Catat tanggalnya dan Jangan sampai ketinggala
 n !!! #medicalfestival2024 #pemkotsemarang[..]\nhttps://ppid.semarangkota.g
 o.id/events/harmoniku-medical-festival-2024/
URL:https://ppid.semarangkota.go.id/events/harmoniku-medical-festival-2024/
END:VEVENT
END:VCALENDAR