BEGIN:VCALENDAR
VERSION:2.0
PRODID:-//eventon.com NONSGML v1.0//EN
CALSCALE:GREGORIAN
METHOD:PUBLISH
BEGIN:VEVENT
UID:69e8f9770d03d
DTSTAMP:20260422T163815Z
DTSTART:20241116T190000Z
DTEND:20241116T235900Z
LOCATION:Muladi Dome (Indoor)\,  Universitas Diponegoro Jl. Prof. Soedarto No.50239\,  RW.4\,  Tembalang\,  Kec. Tembalang\,  Kota Semarang\,  Jawa Tengah 50275
SUMMARY:FISIPFEST 2024
DESCRIPTION:PPID Kota Semarang bukan penyelenggara event. Informasi lebih l
 anjut\,  bisa menghubungi penyelenggara. &nbsp; 🎉 FISIPFEST 2024 🎉 Ma
 u seru-seruan bareng Yovie &amp; Nuno\,  HIVI!\,  Diskoplo\,  Batas Senja\,
   dan bintang tamu spesial lainnya? 😍 Yuk ajak pasangan\,  bestie\,  ata
 u keluargamu buat nonton rame-rame di FISIPFEST UNDIP Music Festival 2024! 
 📅 Tanggal:[..]\nhttps://ppid.semarangkota.go.id/events/fisipfest-2024/
URL:https://ppid.semarangkota.go.id/events/fisipfest-2024/
END:VEVENT
END:VCALENDAR