BEGIN:VCALENDAR
VERSION:2.0
PRODID:-//eventon.com NONSGML v1.0//EN
CALSCALE:GREGORIAN
METHOD:PUBLISH
BEGIN:VEVENT
UID:69e59d8acc0c4
DTSTAMP:20260420T032914Z
DTSTART:20241115T080000Z
DTEND:20241115T170000Z
LOCATION:Lanumad Ahmad Yani Puspenerbad Semarang 29CG+GX4\,  Jl. Puad A Yani\,  Kalibanteng Kulon\,  Semarang Barat\,  Semarang City\,  Central Java 50146
SUMMARY:LOMBA TARI KREASI
DESCRIPTION:  PPID Kota Semarang bukan penyelenggara event. Informasi lebi
 h lanjut\,  bisa menghubungi penyelenggara. ===============================
 ===========================================================================
 ============================ &#8211; Lomba Tari Kreasi\,  Update Infonya Di
  Sini &#8211; @disbudparkotasemarang mensupport lomba tari kreasi pada keg
 iatan Penerbad Expo di Lanumad Ahmad Yani Pendafataran dibuka tanggal 8 Nov
 ember 2024 hingga 15 November 2024 nanti\,  tentunya akan ada hadiah[..]\nh
 ttps://ppid.semarangkota.go.id/events/lomba-tari-kreasi/
URL:https://ppid.semarangkota.go.id/events/lomba-tari-kreasi/
END:VEVENT
END:VCALENDAR