BEGIN:VCALENDAR
VERSION:2.0
PRODID:-//eventon.com NONSGML v1.0//EN
CALSCALE:GREGORIAN
METHOD:PUBLISH
BEGIN:VEVENT
UID:69e8fb43e0415
DTSTAMP:20260422T164555Z
DTSTART:20250531T083900Z
DTEND:20250530T170000Z
LOCATION:PRPP Semarang
SUMMARY:BESTIEVAL 2025 SEMARANG CONCERT
DESCRIPTION:Hey Bestie&#8217;s Semarang Beware BESTIEVAL SEMARANG CONCERT 
  31 Mei 2025 📍 Pusat Rekreasi &amp; Promosi Pembangunan (PRPP) 🕑 S
 tart at 2PM Tiket FESTIVAL 120K IDR VIP 200K IDR (Terbatas) Berlaku sampai 
 tanggal 30 Mei 2025 Online ticket: tiptip dan i.saku Offline ticket: Indoma
 ret\,  Rumah sunat\,  dan River Sehat Don&#8217;t[..]\nhttps://ppid.semaran
 gkota.go.id/events/bestieval-2025-semarang-concert/
URL:https://ppid.semarangkota.go.id/events/bestieval-2025-semarang-concert/
END:VEVENT
END:VCALENDAR