BEGIN:VCALENDAR
VERSION:2.0
PRODID:-//eventon.com NONSGML v1.0//EN
CALSCALE:GREGORIAN
METHOD:PUBLISH
BEGIN:VEVENT
UID:69e8fb4975915
DTSTAMP:20260422T164601Z
DTSTART:20250523T080000Z
DTEND:20250523T150000Z
LOCATION:Gereja Blenduk Kota Lama Semarang
SUMMARY:Karnaval & Perayaan Paskah Kota Semarang 2025
DESCRIPTION:Kebangkitan Kristus Membawa Harapan Bagi Semua Karnaval dan Per
 ayaan Paskah Kota Semarang hadir dengan penuh suka cita! Persembahan dari P
 emerintah Kota Semarang dan gereja-gereja se-Kota Semarang ! ✨Jumat\,  23
  Mei 2025 ✨ KARNAVAL : Pukul 15.00 WIB Rute: Gereja Blenduk (Kota Lama) h
 ingga Balai Kota Semarang. PERAYAAN : Visualisasi Jalan[..]\nhttps://ppid.s
 emarangkota.go.id/events/karnaval-perayaan-paskah-kota-semarang-2025/
URL:https://ppid.semarangkota.go.id/events/karnaval-perayaan-paskah-kota-semarang-2025/
END:VEVENT
END:VCALENDAR