BEGIN:VCALENDAR
VERSION:2.0
PRODID:-//eventon.com NONSGML v1.0//EN
CALSCALE:GREGORIAN
METHOD:PUBLISH
BEGIN:VEVENT
UID:69eb96d2dbee6
DTSTAMP:20260424T161410Z
DTSTART:20250630T192000Z
DTEND:20250630T192000Z
LOCATION:SOCI CLUB Jl. Anjasmoro Raya E1 No.8\,  Tawangsari\,  Kec. Semarang Barat\,  Kota Semarang\,  Jawa Tengah 50144
SUMMARY:Sounds of Souljah Tour 2025
DESCRIPTION:Jadilah bagian dari perjalanan band legendaris souljah 📅 Tan
 ggal : Sabtu\,  5 Juli 2025 ⏰ Waktu : 19.00 💸 HTM : 100K 📍 Lokasi :
  Soci Club Jl. Anjasmoro Raya E1 No.8\,  Tawangsari\,  Kec. Semarang Barat\
 ,  Kota Semarang\,  Jawa Tengah 50144 Jangan sampai terlewat dan *catat* ta
 nggalnya ya Lur 🙏🏼[..]\nhttps://ppid.semarangkota.go.id/events/sounds
 -of-souljah-tour-2025/
URL:https://ppid.semarangkota.go.id/events/sounds-of-souljah-tour-2025/
END:VEVENT
END:VCALENDAR