BEGIN:VCALENDAR
VERSION:2.0
PRODID:-//eventon.com NONSGML v1.0//EN
CALSCALE:GREGORIAN
METHOD:PUBLISH
BEGIN:VEVENT
UID:69e8f9770f0a8
DTSTAMP:20260422T163815Z
DTSTART:20250705T220000Z
DTEND:20250706T050000Z
LOCATION:Gajah Mada Plaza Parking Area Semarang Jl. Simpang Lima\,  Mugassari\,  Kec. Semarang Sel.\,  Kota Semarang\,  Jawa Tengah 50249
SUMMARY:Indomaret Fun Bike 2025 Semarang
DESCRIPTION:Halo Sobat Gowes Indomaret! Indomaret Fun Bike 2025 Semarang ha
 dir kembali! 🚴‍♀️🚴‍♂️⁣ Yuk ikutan Gowes bersama Indomar
 et dan rasakan serunya bersepeda bareng keluarga &amp; teman-teman! 🔥 Se
 lain gowes bareng ribuan peserta\,  kamu juga bisa mendapatkan : 🎁 Dapat
  doorprize keren 🏆 Ikut Lelang Poin Loyality Catat lokasi dan tanggalnya
 : 📍[..]\nhttps://ppid.semarangkota.go.id/events/indomaret-fun-bike-2025-
 semarang/
URL:https://ppid.semarangkota.go.id/events/indomaret-fun-bike-2025-semarang/
END:VEVENT
END:VCALENDAR