BEGIN:VCALENDAR
VERSION:2.0
PRODID:-//eventon.com NONSGML v1.0//EN
CALSCALE:GREGORIAN
METHOD:PUBLISH
BEGIN:VEVENT
UID:69ea377bddb1e
DTSTAMP:20260423T151507Z
DTSTART:20250712T110000Z
DTEND:20250716T163000Z
LOCATION:Sirkuit Mijen Jl. Raya Semarang-Boja\,  Tambangan\,  Kec. Mijen\,  Kota Semarang\,  Jawa Tengah 50275
SUMMARY:Mijen Expo 2025 Kota Semarang
DESCRIPTION:Event bisa berubah sewaktu-waktu. PPID Kota Semarang bukan peny
 elenggara event. Informasi lebih lanjut hubungi penyelenggara. INFO INFO!! 
 Hallo Warga Mijen dan sekitarnya\,  hadir kembali MIJEN EXPO 2025. Persiapk
 an waktu luangmu dibulan Juli untuk ojing bersama 🙌 Dimeriahkan @omloren
 zamusic @threesixty_id @kemputsts @dindateratu @pyongpyongrock 📅 Tang
 gal : 12\,  13 dan 16 Juli 2025 📍 Lokasi[..]\nhttps://ppid.semarangkota.
 go.id/events/mijen-expo-2025-kota-semarang/
URL:https://ppid.semarangkota.go.id/events/mijen-expo-2025-kota-semarang/
END:VEVENT
END:VCALENDAR