BEGIN:VCALENDAR
VERSION:2.0
PRODID:-//eventon.com NONSGML v1.0//EN
CALSCALE:GREGORIAN
METHOD:PUBLISH
BEGIN:VEVENT
UID:69ebd663a91f5
DTSTAMP:20260424T204523Z
DTSTART:20250731T124800Z
DTEND:20250823T164800Z
LOCATION:LAPANGAN GARNISUN
SUMMARY:SEMARANG NIGHT CARNIVAL 2025
DESCRIPTION:PPID Kota Semarang bukan penyelenggara event. Informasi lebih l
 anjut\,  hubungi penyelenggara. Siap-siap\,  Semarang!  Semarang Night Car
 naval akan segera hadir! 🎡🎠 Nikmati wahana seru\,  musik langsung\,  
 kuliner lezat\,  pameran produk unik\,  lomba anak\,  perkumpulan komunitas
 \,  nonton film bareng\,  permainan berhadiah menarik\,  BAZZAR Handphone d
 an lelang produk! 𝗜𝗡𝗙𝗢 𝗗𝗘𝗧𝗔𝗜𝗟: 𝗪𝗵𝗮
 𝘀𝗵𝗮𝗽𝗽 (Novi: 083842522503)[..]\nhttps://ppid.semarangkota.
 go.id/events/semarang-night-carnival-2025/
URL:https://ppid.semarangkota.go.id/events/semarang-night-carnival-2025/
END:VEVENT
END:VCALENDAR