BEGIN:VCALENDAR
VERSION:2.0
PRODID:-//eventon.com NONSGML v1.0//EN
CALSCALE:GREGORIAN
METHOD:PUBLISH
BEGIN:VEVENT
UID:69ea373f30694
DTSTAMP:20260423T151407Z
DTSTART:20250830T070000Z
DTEND:20250830T090000Z
LOCATION:TRANSMART SETIABUDI SEMARANG Jl. Jenderal Pol Anton Sujarwo No.119\,  Srondol Kulon\,  Kec. Banyumanik\,  Kota Semarang\,  Jawa Tengah 50263
SUMMARY:Painting Class
DESCRIPTION:PPID Kota Semarang bukan penyelenggara event. Informasi lebih l
 anjut\,  hubungi penyelenggara. Siapa yang mau belajar melukis tapi juga bi
 sa naik wahana di Transmart hanya dengan 98K Ahh kata Misnty sihh gas dafta
 r Kapan lagi kan belajar\,  bermain jugaa Cuss yg mau ikutan bisa daftar di
  link berikut ya https://bit.ly/Melukis31 Atau[..]\nhttps://ppid.semarangko
 ta.go.id/events/painting-class/
URL:https://ppid.semarangkota.go.id/events/painting-class/
END:VEVENT
END:VCALENDAR