BEGIN:VCALENDAR
VERSION:2.0
PRODID:-//eventon.com NONSGML v1.0//EN
CALSCALE:GREGORIAN
METHOD:PUBLISH
BEGIN:VEVENT
UID:69ead9bab80d2
DTSTAMP:20260424T024722Z
DTSTART:20250924T010000Z
DTEND:20250928T150000Z
LOCATION:Muladi Dome (Indoor)\,  Universitas Diponegoro Jl. Prof. Soedarto No.50239\,  RW.4\,  Tembalang\,  Kec. Tembalang\,  Kota Semarang\,  Jawa Tengah 50275
SUMMARY:Giias Kota Semarang 2025
DESCRIPTION:🚨 Halo\,  sedulur Semarang! Kangen sama keseruan pameran oto
 motif paling heboh? Tenang aja\,  penantianmu bakal terbayar\,  karena GIIA
 S Semarang akhirnya balik lagi! 🎉 Bayangin deh… deretan mobil dan moto
 r terbaru\,  teknologi otomotif yang bikin melongo\,  plus spot seru buat f
 oto-foto bareng. Semua ada di sini! 📸✨ 📅 24 – 28[..]\nhttps://ppi
 d.semarangkota.go.id/events/giias-kota-semarang-2025/
URL:https://ppid.semarangkota.go.id/events/giias-kota-semarang-2025/
END:VEVENT
END:VCALENDAR