BEGIN:VCALENDAR
VERSION:2.0
PRODID:-//eventon.com NONSGML v1.0//EN
CALSCALE:GREGORIAN
METHOD:PUBLISH
BEGIN:VEVENT
UID:69e4d5c4d8734
DTSTAMP:20260419T131652Z
DTSTART:20251213T003000Z
DTEND:20251213T165900Z
LOCATION:RSUD Mijen Semarang Jl. Rm. Hadisoebeno Sosro Wardoyo\,  Mijen\,  Kec. Mijen\,  Kota Semarang
SUMMARY:KHITAN MASSAL 2025
DESCRIPTION:💫KHITAN MASSAL 2025 ✨ BAZNAS Kota Semarang bekerjasama den
 gan RSUD Mijen dan Bank BTN Syariah mengadakan Khitan Massal Gratis untuk m
 asyarakat Kota Semarang. 👦 Kuota: 30 Anak 🗓 Pelaksanaan: 13 Desember 
 2025 Persyaratan: • Beragama Islam • Fotokopi Akta Kelahiran • Fotoko
 pi KTP Orang Tua • Fotokopi KK Fasilitas Peserta:[..]\nhttps://ppid.semar
 angkota.go.id/events/khitan-massal-2025/
URL:https://ppid.semarangkota.go.id/events/khitan-massal-2025/
END:VEVENT
END:VCALENDAR