BEGIN:VCALENDAR
VERSION:2.0
PRODID:-//eventon.com NONSGML v1.0//EN
CALSCALE:GREGORIAN
METHOD:PUBLISH
BEGIN:VEVENT
UID:69e8a01d1fc60
DTSTAMP:20260422T101701Z
DTSTART:20251214T070000Z
DTEND:20251214T165900Z
LOCATION:Stadion Diponegoro Jl. Stadion Barat\,  Karangkidul\,  Kec. Semarang Tengah\,  Kota Semarang\,  Jawa Tengah 50136
SUMMARY:HEY...SLANK
DESCRIPTION:Halo\,  cah Semarang! 👋🏻 Udah siap seru-seruan bareng @sl
 ankdotcom\,  @mcpr_official\,  dan @theclovesandthetobacco mau siapa lagi n
 ihh🫵🏻 Catat tanggalnya: 🗓️ 14 Desember 2025 📍Stadion Diponego
 ro ⏰ Open gate: 14:00 WIB Jangan lupa membawa 2 bungkus HS Mild atau Clic
 k/Slim cukai bersegel sebagai syarat dan ketentuan masuk ke Hey… Slank Se
 marang! Kita[..]\nhttps://ppid.semarangkota.go.id/events/hey-slank/
URL:https://ppid.semarangkota.go.id/events/hey-slank/
END:VEVENT
END:VCALENDAR