BEGIN:VCALENDAR
VERSION:2.0
PRODID:-//eventon.com NONSGML v1.0//EN
CALSCALE:GREGORIAN
METHOD:PUBLISH
BEGIN:VEVENT
UID:69e8fb1d137e5
DTSTAMP:20260422T164517Z
DTSTART:20251205T030000Z
DTEND:20251207T150000Z
LOCATION:Tentrem Mall Semarang
SUMMARY:BEACH SAFARI BATANG GOES TO MALL
DESCRIPTION:Hallo Sahabat Satwa👋🏻👋🏻👋🏻 BEACH SAFARI BATANG
  GOES TO MALL🙌 Siap ketemu satwa lucu dan seru-seruan bareng Beach Safar
 i Batang di tengah kota? 🦜✨ Kami hadir lebih dekat dalam event spesial
  Goes to Mall di Tentrem Mall Semarang! Ajak keluarga &amp; teman merasakan
  pengalaman seru dan edukatif: 🦓 Mini Zoo 🎯[..]\nhttps://ppid.semaran
 gkota.go.id/events/beach-safari-batang-goes-to-mall/
URL:https://ppid.semarangkota.go.id/events/beach-safari-batang-goes-to-mall/
END:VEVENT
END:VCALENDAR