BEGIN:VCALENDAR
VERSION:2.0
PRODID:-//eventon.com NONSGML v1.0//EN
CALSCALE:GREGORIAN
METHOD:PUBLISH
BEGIN:VEVENT
UID:69e8ffaf8a3d3
DTSTAMP:20260422T170447Z
DTSTART:20251206T040000Z
DTEND:20251207T050000Z
LOCATION:KANDRI Jl. Kandri Bar. Raya No.58\,  Kandri\,  Kec. Gn. Pati\,  Kota Semarang
SUMMARY:Pertunjukan Budaya " Nyadran Kali Kandri"
DESCRIPTION:Saksikan Pertunjukan Budaya\,  Nyadran Kali 2025 Halo koncodola
 n! Siapa yang udah nunggu event tahunan Nyadran Kali Kandri yang digelar di
  desa wisata kandri? 🤩🤩 Acara ini akan berlangsunh 6-7 Desember 2025\
 ,  koncodolan dari luar kota pengen menyaksikan tradisi ini? Tenangg ada pa
 ket wisata yang bisa kamu reservasi\,  untuk harga? Langsung[..]\nhttps://p
 pid.semarangkota.go.id/events/pertunjukan-budaya-nyadran-kali-kandri/
URL:https://ppid.semarangkota.go.id/events/pertunjukan-budaya-nyadran-kali-kandri/
END:VEVENT
END:VCALENDAR