BEGIN:VCALENDAR
VERSION:2.0
PRODID:-//eventon.com NONSGML v1.0//EN
CALSCALE:GREGORIAN
METHOD:PUBLISH
BEGIN:VEVENT
UID:69e8fb3fad298
DTSTAMP:20260422T164551Z
DTSTART:20251219T030000Z
DTEND:20260104T150000Z
LOCATION:The Park Mall Semarang Tawangmas\,  Kec. Semarang Barat\,  Kota Semarang
SUMMARY:Winter on Skates : Magical Christmas Show from Russia The Park Mall
DESCRIPTION:PPID Kota Semarang bukan penyelenggara event. Informasi lebih l
 anjut\,  hubungi penyelenggara. ✨❄️ THE MOST MAGICAL CHRISTMAS SHOW I
 S COMING TO SEMARANG! ❄️✨ Bersiaplah menyaksikan pertunjukan Winter o
 n Skates\,  langsung dari Rusia! sebuah show spektakuler yang memadukan sen
 i\,  akrobat\,  dan dance on skates dalam balutan nuansa winter yang mempes
 ona. Mulai 19[..]\nhttps://ppid.semarangkota.go.id/events/winter-on-skates-
 magical-christmas-show-from-russia-the-park-mall/
URL:https://ppid.semarangkota.go.id/events/winter-on-skates-magical-christmas-show-from-russia-the-park-mall/
END:VEVENT
END:VCALENDAR