BEGIN:VCALENDAR
VERSION:2.0
PRODID:-//eventon.com NONSGML v1.0//EN
CALSCALE:GREGORIAN
METHOD:PUBLISH
BEGIN:VEVENT
UID:69ea3a5e56cec
DTSTAMP:20260423T152726Z
DTSTART:20260204T170000Z
DTEND:20260207T170000Z
LOCATION:UDINUS Satria Sport Center 2CH6+PFX\,  Jl. Satria Raya\,  Plombokan\,  Kec. Semarang Utara\,  Kota Semarang\,  Jawa Tengah 50171
SUMMARY:UDINUS TUGU MUDA CHAMPIONSHIP 2026
DESCRIPTION:*UDINUS CALLING🔊🔊* *🔥 UDINUS TUGU MUDA CHAMPIONSHIP 20
 26 🔥* Siapkan diri\,  mental\,  dan fisikmu! Kejuaraan UDINUS Tugu Muda 
 Championship (UTMC) 2026 kembali hadir sebagai ajang pembuktian pesilat mud
 a terbaik dari berbagai kategori! Tunjukkan kemampuan terbaikmu di hadapan 
 juri dan raih kesempatan memenangkan VOUCHER BEASISWA! *SD/MI/Usia Dini &#8
 211; SMP/MTs/Sederajat &#8211; SMA/SMK/MA/Sederajat[..]\nhttps://ppid.semar
 angkota.go.id/events/udinus-tugu-muda-championship-2026/
URL:https://ppid.semarangkota.go.id/events/udinus-tugu-muda-championship-2026/
END:VEVENT
END:VCALENDAR