BEGIN:VCALENDAR
VERSION:2.0
PRODID:-//eventon.com NONSGML v1.0//EN
CALSCALE:GREGORIAN
METHOD:PUBLISH
BEGIN:VEVENT
UID:69ea41ae22f4a
DTSTAMP:20260423T155838Z
DTSTART:20260206T170000Z
DTEND:20260206T170000Z
LOCATION:SD Hj. Isriati Baiturrahman 2 Kota Semarang Jl. Abdul Rahman Saleh No.285\,  Kalipancur\,  Kec. Ngaliyan\,  Kota Semarang\,  Jawa Tengah 50183
SUMMARY:LKBB JATIBARANG 2026
DESCRIPTION:JADILAH BAGIAN DARI JEMBATAN PRESTASI PEMBARIS JAWA TENGAH !!! 
 Sama halnya dengan megahnya Jembatan Waduk Jatibarang yang menghubungkan ke
 indahan\,  dan kehidupan serta budaya di Kota Semarang. ASPAS (Asosiasi Pem
 baris Kota Semarang) dengan bangga mempersembahkan : LKBB JATIBARANG 2026 (
  JAWARA AKSI DAN PRESTASI PEMBARIS KOTA SEMARANG 2026 ) Tingkat SD/MI\, [..
 ]\nhttps://ppid.semarangkota.go.id/events/lkbb-jatibarang-2026/
URL:https://ppid.semarangkota.go.id/events/lkbb-jatibarang-2026/
END:VEVENT
END:VCALENDAR