BEGIN:VCALENDAR
VERSION:2.0
PRODID:-//eventon.com NONSGML v1.0//EN
CALSCALE:GREGORIAN
METHOD:PUBLISH
BEGIN:VEVENT
UID:69ea3b2896390
DTSTAMP:20260423T153048Z
DTSTART:20260207T210000Z
DTEND:20260208T020000Z
LOCATION:Simpang Lima (Depan Masjid Baiturrahman) Jl. Pandanaran No.126\,  Pekunden\,  Kec. Semarang Tengah\,  Kota Semarang\,  Jawa Tengah 50241
SUMMARY:BANGOR RUN TOUCHDOWN HADIR KEMBALI DI SEMARANG🏃
DESCRIPTION:PPID Kota Semarang bukan penyelenggara event. Informasi lebih l
 anjut\,  hubungi penyelenggra. BANGOR RUN TOUCHDOWN HADIR KEMBALI DI SEMARA
 NG🏃 Buat kamu yang suka lari\,  suka tantangan\,  atau cuma pengen ngera
 sain vibes seru bareng keluarga atau komunitas\,  ini momen yang nggak bole
 h dilewatin‼️ CATET INFONYA: 🗓️ Minggu\,  8 Februari 2026 📍 Sim
 pang[..]\nhttps://ppid.semarangkota.go.id/events/bangor-run-touchdown-hadir
 -kembali-di-semarang%f0%9f%8f%83/
URL:https://ppid.semarangkota.go.id/events/bangor-run-touchdown-hadir-kembali-di-semarang%f0%9f%8f%83/
END:VEVENT
END:VCALENDAR