BEGIN:VCALENDAR
VERSION:2.0
PRODID:-//eventon.com NONSGML v1.0//EN
CALSCALE:GREGORIAN
METHOD:PUBLISH
BEGIN:VEVENT
UID:69e63f8b75f55
DTSTAMP:20260420T150027Z
DTSTART:20260207T080000Z
DTEND:20260207T150000Z
LOCATION:Sweet Pleasure Oia Santorin jalan Tumpang Raya no 35
SUMMARY:EMINA BEAUTY CLASS
DESCRIPTION:PPID Kota Semarang bukan penyelenggara event. Informasi lebih l
 anjut\,  hubungi penyelenggra. Level Up Your Glow!🌟 Glow Up Era with Emi
 na!😍💗 In special collaboration Beauty Class Emina x @oiasantorin_swe
 etpleasure Self Love Alert!💗 Book Now! 🗓 : Saturday \,  7 February 20
 26 🕰 : 15.00 &#8211; until the end 📍: Sweet Pleasure Oi[..]\nhttps://
 ppid.semarangkota.go.id/events/emina-beauty-class/
URL:https://ppid.semarangkota.go.id/events/emina-beauty-class/
END:VEVENT
END:VCALENDAR