BEGIN:VCALENDAR
VERSION:2.0
PRODID:-//eventon.com NONSGML v1.0//EN
CALSCALE:GREGORIAN
METHOD:PUBLISH
BEGIN:VEVENT
UID:69e8f9786ae6c
DTSTAMP:20260422T163816Z
DTSTART:20260416T030000Z
DTEND:20260421T150000Z
LOCATION:Mall Ciputra Semarang Jl. Simpang Lima No.1\,  Pekunden\,  Kec. Semarang Tengah\,  Kota Semarang\,  Jawa Tengah 50134
SUMMARY:Bapenda Goes to Mall Ciputra
DESCRIPTION:Bayar PBB sekarang makin gampang! Datang aja ke BAPENDA Goes to
  Mall di Mall Ciputra Semarang ✨Diskon 10% ✨Bebas denda tunggakan ✨So
 uvenir menarik 16-21 April 2026 | 10.00-20.00 WIB Jangan sampai kelewatan! 
 #BapendaGoesToMall #BayarPBB #PajakDaerah #diskonpbb\nhttps://ppid.semara
 ngkota.go.id/events/bapenda-goes-to-mall-ciputra/
URL:https://ppid.semarangkota.go.id/events/bapenda-goes-to-mall-ciputra/
END:VEVENT
END:VCALENDAR