BEGIN:VCALENDAR
VERSION:2.0
PRODID:-//eventon.com NONSGML v1.0//EN
CALSCALE:GREGORIAN
METHOD:PUBLISH
BEGIN:VEVENT
UID:69e8b5ad1c228
DTSTAMP:20260422T114901Z
DTSTART:20260425T123000Z
DTEND:20260425T205000Z
LOCATION:Lapangan Sicarikan (Patemon) Patemon\,  Kec. Gn. Pati\,  Kota Semarang\,  Jawa Tengah 50228
SUMMARY:Gunungpati Bersholawat
DESCRIPTION:✨ Gunungpati Bersholawat ✨ Mari hadir dan bersatu dalam lan
 tunan sholawat\,  memohon keberkahan serta mempererat ukhuwah bersama 🤲
  📿 Bersama: • Habib Muhammad Zaidan bin Yahya • Habib Hamid bin S
 holeh Baagil 🎶 Hadroh Sekar Langit 📅 Sabtu\,  25 April 2026 🕢 Puku
 l 19.30 WIB – selesai 📍 Lapangan Sicarikan[..]\nhttps://ppid.semarangk
 ota.go.id/events/gunungpati-bersholawat-2/
URL:https://ppid.semarangkota.go.id/events/gunungpati-bersholawat-2/
END:VEVENT
END:VCALENDAR