BEGIN:VCALENDAR
VERSION:2.0
PRODID:-//eventon.com NONSGML v1.0//EN
CALSCALE:GREGORIAN
METHOD:PUBLISH
BEGIN:VEVENT
UID:69e8b4b67fe55
DTSTAMP:20260422T114454Z
DTSTART:20260425T030000Z
DTEND:20260510T140000Z
LOCATION:Main Atrium Tentrem Mall
SUMMARY:The Youth Club Festival
DESCRIPTION:𝗪𝗮𝗸𝘁𝘂𝗻𝘆𝗮 𝗦𝗶 𝗞𝗲𝗰𝗶𝗹 
 𝗨𝗻𝗷𝘂𝗸 𝗚𝗶𝗴𝗶 𝗗𝗶 𝗧𝗲𝗻𝘁𝗿𝗲𝗺
  𝗠𝗮𝗹𝗹! 🌟 Moms &amp; Dads\,  ada rencana seru apa untuk mengi
 si waktu luang buah hati tercinta? Yuk\,  asah kreativitas dan rasa percaya
  diri mereka di gelaran The Youth Club Festival! 🌟 Mulai dari kompetisi 
 Singing\,  Modern Dance\,  hingga ajang seru untuk si kecil[..]\nhttps://pp
 id.semarangkota.go.id/events/the-youth-club-festival/
URL:https://ppid.semarangkota.go.id/events/the-youth-club-festival/
END:VEVENT
END:VCALENDAR