BEGIN:VCALENDAR
VERSION:2.0
PRODID:-//eventon.com NONSGML v1.0//EN
CALSCALE:GREGORIAN
METHOD:PUBLISH
BEGIN:VEVENT
UID:69e8b2e21cd97
DTSTAMP:20260422T113706Z
DTSTART:20260416T030000Z
DTEND:20260428T150000Z
LOCATION:Atrium The Park Semarang
SUMMARY:OBRAL OBROLAN BUKU
DESCRIPTION:OBRAL BUKU TERBESAR ADA DI SINI 📚✨ Waktunya borong buku fa
 vorit dengan harga super hemat! Mulai dari best seller\,  buku impor\,  sam
 pai mainan &amp; ATK semua ada 🤩 💥 Diskon hingga 45% 💥 Buku mulai 
 dari 9.5K 💥 1 tas penuh cuma 65K 💥 Mainan diskon sampai 50% 📍 Atri
 um[..]\nhttps://ppid.semarangkota.go.id/events/obral-obrolan-buku/
URL:https://ppid.semarangkota.go.id/events/obral-obrolan-buku/
END:VEVENT
END:VCALENDAR